BEGIN:VCALENDAR
VERSION:2.0
PRODID:icalendar-ruby
CALSCALE:GREGORIAN
METHOD:PUBLISH
BEGIN:VEVENT
DTSTAMP:20260423T082858Z
UID:359-793906@gracegospel.tithelysetup2.com
DTSTART:20260501T233000Z
DTEND:20260502T003000Z
CLASS:PUBLIC
CREATED:20260422T094643
DESCRIPTION:The MDDC District will host its third annual "I Am Global" serv
 ice at Bethel Christian Center in Havre de Grace\, MD.\n\nThe purpose of t
 his service is to raise awareness of Global Missions and I Am Global.\n\nB
 ro. Charles Robinette will be ministering and sharing his burden for the l
 ost around the world.\n\nThis is a great opportunity to learn what Global 
 Missions is all about.
LAST-MODIFIED:20260422T094643
LOCATION:Bethel Christian Center\, 21 N. Earlton Rd Ext. Havre de Grace\, M
 D 21078
SUMMARY:I Am Global - Global Missions Service
URL;VALUE=URI:https://ggwcupc.org/events/i-am-global-global-missions-servic
 e/2026-05-01
ATTACH;FILENAME=image1.jpeg;FMTTYPE=image/jpeg:https://dq5pwpg1q8ru0.cloudf
 ront.net/2026/04/22/13/43/31/b6bd579f-334d-4446-ae49-0172eac29fa9/image1.j
 peg
END:VEVENT
END:VCALENDAR
