BEGIN:VCALENDAR
VERSION:2.0
PRODID:icalendar-ruby
CALSCALE:GREGORIAN
METHOD:PUBLISH
BEGIN:VEVENT
DTSTAMP:20260423T205819Z
UID:360-798297@gracegospel.tithelysetup2.com
DTSTART:20260425T000000Z
DTEND:20260425T030000Z
CLASS:PUBLIC
CREATED:20260423T131959
DESCRIPTION:Join us for this night of prayer as we gather to pray for our c
 hurch\, families\, and nation. We have souls that are hanging in the balan
 ce that need salvation/deliverance. We have many that are in need of heali
 ngs\, whether physically\, mentally\, or emotionally. We know there are ot
 hers who have financial\, spiritual\, or other needs. We need a spiritual 
 breakthrough for revival and a harvest of souls\, and also laborers in the
  field. So come and pray with us for however long you can. There's strengt
 h and power in numbers.\nÚnase a nosotros para esta noche de oración mie
 ntras nos reunimos para orar por nuestra iglesia\, familias y nación. Ten
 emos almas que cuelgan de la balanza que necesitan salvación/liberación.
  Tenemos muchos que necesitan curación\, ya sea física\, mental o emocio
 nalmente. Sabemos que hay otros que tienen necesidades financieras\, espir
 ituales o de otro tipo. Necesitamos un avance espiritual para el avivamien
 to y una cosecha de almas\, y también trabajadores en el campo. Así que 
 ven y reza con nosotros todo el tiempo que puedas. Hay fuerza y poder en l
 os números.
LAST-MODIFIED:20260423T131959
LOCATION:
SUMMARY:Friday Night Prayer
URL;VALUE=URI:https://ggwcupc.org/events/friday-night-prayer/2026-04-24
ATTACH;FILENAME=Fri-Prayer-Night.jpg;FMTTYPE=image/jpeg:https://dq5pwpg1q8r
 u0.cloudfront.net/2026/04/23/17/13/16/e1d83ba7-b454-4b88-9530-bd471240e8ec
 /Fri-Prayer-Night.jpg
END:VEVENT
END:VCALENDAR
